BEGIN:VCALENDAR
VERSION:2.0
PRODID:-//Shir Hayam - ECPv6.15.20//NONSGML v1.0//EN
CALSCALE:GREGORIAN
METHOD:PUBLISH
X-WR-CALNAME:Shir Hayam
X-ORIGINAL-URL:https://shirhayam.org
X-WR-CALDESC:Events for Shir Hayam
REFRESH-INTERVAL;VALUE=DURATION:PT1H
X-Robots-Tag:noindex
X-PUBLISHED-TTL:PT1H
BEGIN:VTIMEZONE
TZID:UTC
BEGIN:STANDARD
TZOFFSETFROM:+0000
TZOFFSETTO:+0000
TZNAME:UTC
DTSTART:20190101T000000
END:STANDARD
END:VTIMEZONE
BEGIN:VEVENT
DTSTART;TZID=UTC:20210405T173000
DTEND;TZID=UTC:20210405T183000
DTSTAMP:20260425T204746
CREATED:20210401T075529Z
LAST-MODIFIED:20210401T075529Z
UID:5270-1617643800-1617647400@shirhayam.org
SUMMARY:Kugelettes
DESCRIPTION:All welcome to come and visit and maybe even sing.
URL:https://shirhayam.org/event/kugelettes-16/
LOCATION:Shir Hayam Zoom Room
END:VEVENT
BEGIN:VEVENT
DTSTART;TZID=UTC:20210403T090000
DTEND;TZID=UTC:20210403T093000
DTSTAMP:20260425T204746
CREATED:20210401T075408Z
LAST-MODIFIED:20210401T075408Z
UID:5268-1617440400-1617442200@shirhayam.org
SUMMARY:SHABBAT MORNING MEDITATION
DESCRIPTION:Dick Golden will lead us in meditation Saturday\, April 3rd 9-9:30 am. It is a wonderful\, intimate gathering and a lovely way to start your morning & your month. In the Shir Hayam Zoom Room.
URL:https://shirhayam.org/event/shabbat-morning-meditation-6/
LOCATION:Shir Hayam Zoom Room
END:VEVENT
BEGIN:VEVENT
DTSTART;TZID=UTC:20210401T080000
DTEND;TZID=UTC:20210401T170000
DTSTAMP:20260425T204746
CREATED:20210401T080619Z
LAST-MODIFIED:20210401T080619Z
UID:5278-1617264000-1617296400@shirhayam.org
SUMMARY:SHABBAT MORNING MEDITATION 
DESCRIPTION:Dick & Linda Golden will lead us in meditation Saturday\, April 3rd 9-9:30 am. It is a wonderful\, intimate gathering and a lovely way to start your morning & your month. In the Shir Hayam Zoom Room.
URL:https://shirhayam.org/event/shabbat-morning-meditation-7/
CATEGORIES:Jewish Holiday,Meditation
END:VEVENT
BEGIN:VEVENT
DTSTART;TZID=UTC:20210327T160000
DTEND;TZID=UTC:20210327T183000
DTSTAMP:20260425T204746
CREATED:20210302T142120Z
LAST-MODIFIED:20210302T142120Z
UID:5234-1616860800-1616869800@shirhayam.org
SUMMARY:Passover Seder
DESCRIPTION:PASSOVER IS COMING! Save the date – Saturday\, March 27th. This March\, just like last year\, we will celebrate Passover in our Shir Hayam Zoom room. The Ruach Committee is putting together a Passover evening as lovely as we all shared last year. Shir Hayam’s seder will be on the first night\, Saturday\, March 27. Time:  4-4:30 p.m. Shmooze and catch up with friends. Seder starts at 4:30 p.m. Stay tuned\, more information will be coming soon.
URL:https://shirhayam.org/event/passover-seder-2/
LOCATION:Shir Hayam Zoom Room
CATEGORIES:Jewish Holiday
ORGANIZER;CN="Ruach Committee":MAILTO:ruach@shirhayam.org
END:VEVENT
BEGIN:VEVENT
DTSTART;TZID=UTC:20210320T190000
DTEND;TZID=UTC:20210320T203000
DTSTAMP:20260425T204746
CREATED:20210302T141231Z
LAST-MODIFIED:20210302T141231Z
UID:5230-1616266800-1616272200@shirhayam.org
SUMMARY:Movie Discussion - Winter Journey
DESCRIPTION:We are setting up two zoom discussions for films from the upcoming\nSeattle Jewish Film Festival. Purchase tickets here: https://seattlejewishfilmfestival.org/festival/tickets-box-office \nWinter Journey – An intimate story of family secrets and a father-son interview\, remarkably illustrated through archival images\, footage\, and actual conversations. Bruno Ganz (WINGS OF DESIRE) delivers a sublime and vulnerable performance as the father in his final role. Watch anytime between March 17 7 pm – March 20 7 pm. Discussion Saturday March 20 at 7 pm in the Shir Hayam Zoom Room. For more information and to register see link to Seattle Jewish Film Festival below.
URL:https://shirhayam.org/event/movie-discussion-winter-journey/
LOCATION:Shir Hayam Zoom Room
CATEGORIES:Cultural Events
END:VEVENT
BEGIN:VEVENT
DTSTART;TZID=UTC:20210319T173000
DTEND;TZID=UTC:20210319T190000
DTSTAMP:20260425T204746
CREATED:20210302T141436Z
LAST-MODIFIED:20210302T141436Z
UID:5232-1616175000-1616180400@shirhayam.org
SUMMARY:Spring Shabbat
DESCRIPTION:Shabbat Evening March 19th at 5:30  On the edge of Spring\, Jill Onewein will lead us in this month’s Shabbat. Look forward to kiddush and a discussion  based on this week’s parsha\, Vayikra. \n\nWe will send out 2 readings prior to the service from Rabbi Jonathan Sachs and also from Shefa Gold’s book\, Torah Journeys. Rabbi Gold brings a modern and relevant interpretation of Vayikra\, which is traditionally about sacrifice.  Jonathan Sacks commentary about Hope and Optimism is also quite illuminating. Reading these two articles ahead of time will help you jump right in to the discussion. Hope to see you there in the Shir Hayam Zoom Room.
URL:https://shirhayam.org/event/spring-shabbat/
LOCATION:Shir Hayam Zoom Room
CATEGORIES:Jewish Holiday
ORGANIZER;CN="Ruach Committee":MAILTO:ruach@shirhayam.org
END:VEVENT
BEGIN:VEVENT
DTSTART;TZID=UTC:20210314T170000
DTEND;TZID=UTC:20210314T203000
DTSTAMP:20260425T204746
CREATED:20210302T141059Z
LAST-MODIFIED:20210302T141059Z
UID:5228-1615741200-1615753800@shirhayam.org
SUMMARY:Movie Discussion - The Crossing
DESCRIPTION:We are setting up two zoom discussions for films from the upcoming\nSeattle Jewish Film Festival. Purchase tickets here: https://seattlejewishfilmfestival.org/festival/tickets-box-office \n1. The Crossing –  Adventurous 10-year-old Gerda and brother Otto discover two Jewish children hiding in their basement and embark on a courageous journey to reunite them with their parents. Sunday\, March 14 watch the movie at 5 pm and join the discussion at 7 pm in the Shir Hayam Zoom Room.
URL:https://shirhayam.org/event/movie-discussion-the-crossing/
CATEGORIES:Cultural Events
END:VEVENT
BEGIN:VEVENT
DTSTART;TZID=UTC:20210306T090000
DTEND;TZID=UTC:20210306T093000
DTSTAMP:20260425T204746
CREATED:20210302T140751Z
LAST-MODIFIED:20210302T140751Z
UID:5224-1615021200-1615023000@shirhayam.org
SUMMARY:Shabbat Meditation
DESCRIPTION:Dick and Linda will once again lead us in meditation Saturday\, March 6th 9-9:30 am. It is a wonderful\, intimate gathering and a lovely way to start your morning & your month. In the Shir Hayam Zoom Room.
URL:https://shirhayam.org/event/shabbat-meditation-2/
LOCATION:Shir Hayam Zoom Room
CATEGORIES:Jewish Holiday
END:VEVENT
BEGIN:VEVENT
DTSTART;TZID=UTC:20210227T160000
DTEND;TZID=UTC:20210227T170000
DTSTAMP:20260425T204746
CREATED:20210202T030958Z
LAST-MODIFIED:20210202T030958Z
UID:5164-1614441600-1614445200@shirhayam.org
SUMMARY:Purim Party
DESCRIPTION:Zooming into Purim February 27th at 4 pm.\nWe are planning for Purim and it takes us all to throw a proper party! \nWe are looking for folks to help perform the megillah\, perhaps sing a tune\, play an instrument to entertain us and poets to recite their Purim themed poems for the occasion. (Perhaps bowing down to false idols is a pertinent topic for some of you). Contact ruach@shirhayam.org to volunteer. \nEven if you are just planning on attending\, think about wearing a hat or crown to celebrate!
URL:https://shirhayam.org/event/purim-party-3/
LOCATION:Shir Hayam Zoom Room
CATEGORIES:Cultural Events,Fun,Jewish Holiday
ORGANIZER;CN="Ruach Committee":MAILTO:ruach@shirhayam.org
END:VEVENT
BEGIN:VEVENT
DTSTART;TZID=UTC:20210222T173000
DTEND;TZID=UTC:20210222T183000
DTSTAMP:20260425T204746
CREATED:20201230T095745Z
LAST-MODIFIED:20201230T095745Z
UID:5091-1614015000-1614018600@shirhayam.org
SUMMARY:Kugelettes
DESCRIPTION:Every other Monday in the Shir Hayam Zoom Room – at 5:30 pm to accommodate our East Coast folks.
URL:https://shirhayam.org/event/kugelettes-15/
LOCATION:Shir Hayam Zoom Room
CATEGORIES:Fun
END:VEVENT
BEGIN:VEVENT
DTSTART;TZID=UTC:20210220T100000
DTEND;TZID=UTC:20210220T120000
DTSTAMP:20260425T204746
CREATED:20210101T080700Z
LAST-MODIFIED:20210202T030629Z
UID:5111-1613815200-1613822400@shirhayam.org
SUMMARY:Coordinating Committee Meeting
DESCRIPTION:All members welcome.
URL:https://shirhayam.org/event/coordinating-committee-meeting-10/
LOCATION:Shir Hayam Zoom Room
CATEGORIES:Committee Meeting
ORGANIZER;CN="Coordinating Committee":MAILTO:cc@shirhayam.org
END:VEVENT
BEGIN:VEVENT
DTSTART;TZID=UTC:20210208T173000
DTEND;TZID=UTC:20210208T183000
DTSTAMP:20260425T204746
CREATED:20201230T095633Z
LAST-MODIFIED:20201230T095633Z
UID:5089-1612805400-1612809000@shirhayam.org
SUMMARY:Kugelettes
DESCRIPTION:Every other Monday in the Shir Hayam Zoom Room – at 5:30 pm to accommodate our East Coast folks.
URL:https://shirhayam.org/event/kugelettes-14/
LOCATION:Shir Hayam Zoom Room
CATEGORIES:Fun
END:VEVENT
BEGIN:VEVENT
DTSTART;TZID=UTC:20210207T100000
DTEND;TZID=UTC:20210207T120000
DTSTAMP:20260425T204746
CREATED:20210101T082259Z
LAST-MODIFIED:20210202T030805Z
UID:5113-1612692000-1612699200@shirhayam.org
SUMMARY:Memorial Scrolls Trust
DESCRIPTION:Join us for a presentation about the Memorial Scrolls Trust (MST) and the history of our Shir Hayam Torah by MST Trustee and US representative Lois Roman. Sunday\, February 7th at 10 am in the Shir Hayam Zoom Room. The Memorial Scrolls Trust is a London based nonprofit dedicated to the preserving the legacy of  1\,564  Torahs taken from from synagogues in Bohemia and Moravia during the Shoah. Our Torah has been on loan to us from MST since 1990.
URL:https://shirhayam.org/event/memorial-scrolls-trust/
LOCATION:Shir Hayam Zoom Room
ORGANIZER;CN="Ruach Committee":MAILTO:ruach@shirhayam.org
END:VEVENT
BEGIN:VEVENT
DTSTART;TZID=UTC:20210125T173000
DTEND;TZID=UTC:20210125T183000
DTSTAMP:20260425T204746
CREATED:20201230T095425Z
LAST-MODIFIED:20201230T095425Z
UID:5087-1611595800-1611599400@shirhayam.org
SUMMARY:Kugelettes
DESCRIPTION:Every other Monday in the Shir Hayam Zoom Room – at 5:30 pm to accommodate our East Coast folks.
URL:https://shirhayam.org/event/kugelettes-13/
LOCATION:Shir Hayam Zoom Room
CATEGORIES:Fun
END:VEVENT
BEGIN:VEVENT
DTSTART;TZID=UTC:20210122T173000
DTEND;TZID=UTC:20210122T183000
DTSTAMP:20260425T204746
CREATED:20201230T101256Z
LAST-MODIFIED:20201230T101256Z
UID:5103-1611336600-1611340200@shirhayam.org
SUMMARY:Shabbat
DESCRIPTION:Candle lighting\, Kiddush and perhaps some discussion. Hope to see you there!
URL:https://shirhayam.org/event/shabbat-10/
LOCATION:Shir Hayam Zoom Room
CATEGORIES:Jewish Holiday
ORGANIZER;CN="Ruach Committee":MAILTO:ruach@shirhayam.org
END:VEVENT
BEGIN:VEVENT
DTSTART;TZID=UTC:20210117T080000
DTEND;TZID=UTC:20210117T170000
DTSTAMP:20260425T204746
CREATED:20201230T101104Z
LAST-MODIFIED:20201230T101104Z
UID:5101-1610870400-1610902800@shirhayam.org
SUMMARY:Coordinating Committee Meeting
DESCRIPTION:All members welcome to attend.
URL:https://shirhayam.org/event/coordinating-committee-meeting-9/
LOCATION:Shir Hayam Zoom Room
CATEGORIES:Committee Meeting
ORGANIZER;CN="Coordinating Committee":MAILTO:cc@shirhayam.org
END:VEVENT
BEGIN:VEVENT
DTSTART;TZID=UTC:20210111T173000
DTEND;TZID=UTC:20210111T173000
DTSTAMP:20260425T204746
CREATED:20201230T094942Z
LAST-MODIFIED:20201230T095318Z
UID:5083-1610386200-1610386200@shirhayam.org
SUMMARY:Kugelettes
DESCRIPTION:Every other Monday in the Shir Hayam Zoom Room – at 5:30 pm to accommodate our East Coast folks.
URL:https://shirhayam.org/event/kugelettes-12/
LOCATION:Shir Hayam Zoom Room
CATEGORIES:Fun
END:VEVENT
BEGIN:VEVENT
DTSTART;TZID=UTC:20210110T100000
DTEND;TZID=UTC:20210110T120000
DTSTAMP:20260425T204746
CREATED:20201230T100134Z
LAST-MODIFIED:20210101T082525Z
UID:5095-1610272800-1610280000@shirhayam.org
SUMMARY:Journey to Jewish Rome
DESCRIPTION:Live from Italy in the Shir Hayam Zoom Room on Sunday January 10 2021  10 am – 12 noon \n\n\n\nMicaela’s Jewish family in Rome goes back 2000 years. A sought after walking tour guide recommended by Rick Steves\, she will share her extensive knowledge\, interesting stories\, and beautiful photographs in a fun and engaging way during this tour of twenty two centuries of Jewish life in Rome. \nPlease RSVP to jjr10RSVP@gmail.com for an invitation to the Special Event Zoom Room.
URL:https://shirhayam.org/event/journey-to-jewish-rome/
CATEGORIES:Adult Education,Cultural Events,Fun
END:VEVENT
BEGIN:VEVENT
DTSTART;TZID=UTC:20210102T090000
DTEND;TZID=UTC:20210102T093000
DTSTAMP:20260425T204746
CREATED:20201230T095913Z
LAST-MODIFIED:20201230T095913Z
UID:5093-1609578000-1609579800@shirhayam.org
SUMMARY:Shabbat Morning Meditation
DESCRIPTION:
URL:https://shirhayam.org/event/shabbat-morning-meditation-5/
LOCATION:Shir Hayam Zoom Room
CATEGORIES:Jewish Holiday,Meditation
ORGANIZER;CN="Ruach Committee":MAILTO:ruach@shirhayam.org
END:VEVENT
BEGIN:VEVENT
DTSTART;TZID=UTC:20201228T173000
DTEND;TZID=UTC:20201228T173000
DTSTAMP:20260425T204746
CREATED:20201230T094839Z
LAST-MODIFIED:20201230T095245Z
UID:5081-1609176600-1609176600@shirhayam.org
SUMMARY:Kugelettes
DESCRIPTION:Every other Monday in the Shir Hayam Zoom Room – at 5:30 pm to accommodate our East Coast folks.
URL:https://shirhayam.org/event/kugelettes-11/
LOCATION:Shir Hayam Zoom Room
CATEGORIES:Fun
END:VEVENT
BEGIN:VEVENT
DTSTART;TZID=UTC:20201217T173000
DTEND;TZID=UTC:20201217T193000
DTSTAMP:20260425T204746
CREATED:20201202T071627Z
LAST-MODIFIED:20201214T084026Z
UID:5047-1608226200-1608233400@shirhayam.org
SUMMARY:Chanukah Party
DESCRIPTION:We will light menorahs together and play some games. Robin Hruska has a downloaded Chanukkah Bingo game we can play together that has 32 individual boards. Plenty for all. To help things go smoothly\, if you can email her ahead of time\, she can send you a board before the party.
URL:https://shirhayam.org/event/chanukah-party-shabbat-celebration/
LOCATION:Shir Hayam Zoom Room
CATEGORIES:Fun,Jewish Holiday
ORGANIZER;CN="Ruach Committee":MAILTO:ruach@shirhayam.org
END:VEVENT
BEGIN:VEVENT
DTSTART;TZID=UTC:20201214T080000
DTEND;TZID=UTC:20201214T170000
DTSTAMP:20260425T204746
CREATED:20201202T071744Z
LAST-MODIFIED:20201202T071744Z
UID:5049-1607932800-1607965200@shirhayam.org
SUMMARY:Kugelettes
DESCRIPTION:Hang out with the Kugelettes – all welcome
URL:https://shirhayam.org/event/kugelettes-10/
LOCATION:Shir Hayam Zoom Room
CATEGORIES:Fun
END:VEVENT
BEGIN:VEVENT
DTSTART;TZID=UTC:20201206T130000
DTEND;TZID=UTC:20201206T150000
DTSTAMP:20260425T204746
CREATED:20201202T071431Z
LAST-MODIFIED:20201202T071821Z
UID:5044-1607259600-1607266800@shirhayam.org
SUMMARY:Coordinating Committee Meeting
DESCRIPTION:Coordinating Committee Meeting – open to all members.
URL:https://shirhayam.org/event/coordinating-committee-meeting-8/
LOCATION:Shir Hayam Zoom Room
CATEGORIES:Committee Meeting
ORGANIZER;CN="Coordinating Committee":MAILTO:cc@shirhayam.org
END:VEVENT
BEGIN:VEVENT
DTSTART;TZID=UTC:20201205T090000
DTEND;TZID=UTC:20201205T093000
DTSTAMP:20260425T204746
CREATED:20201031T084503Z
LAST-MODIFIED:20201031T084503Z
UID:5007-1607158800-1607160600@shirhayam.org
SUMMARY:Shabbat Morning Meditation
DESCRIPTION:Meditation with the Goldens– Dick and Linda Golden are generously continuing to lead us in a silent meditation the first Saturday of the month. This month’s date and time is December 5th from 9-9:30. It’s been a lovely way to get together. Hope to see you there. Shir Hayam Zoom Room.
URL:https://shirhayam.org/event/shabbat-morning-meditation-4/
LOCATION:Shir Hayam Zoom Room
CATEGORIES:Meditation
ORGANIZER;CN="Ruach Committee":MAILTO:ruach@shirhayam.org
END:VEVENT
BEGIN:VEVENT
DTSTART;TZID=UTC:20201130T173000
DTEND;TZID=UTC:20201130T190000
DTSTAMP:20260425T204746
CREATED:20201101T135532Z
LAST-MODIFIED:20201101T135541Z
UID:5022-1606757400-1606762800@shirhayam.org
SUMMARY:Kugelettes
DESCRIPTION:Every other Monday in the Shir Hayam Zoom Room – at 5:30 pm to accommodate our East Coast folks.
URL:https://shirhayam.org/event/kugelettes-9/
LOCATION:Shir Hayam Zoom Room
CATEGORIES:Fun
END:VEVENT
BEGIN:VEVENT
DTSTART;TZID=UTC:20201120T180000
DTEND;TZID=UTC:20201120T193000
DTSTAMP:20260425T204746
CREATED:20201031T083841Z
LAST-MODIFIED:20201031T085546Z
UID:5003-1605895200-1605900600@shirhayam.org
SUMMARY:Gratefulness Shabbat
DESCRIPTION:Friday\, November 20th 6PM Shabbat We are aware that this may be a very difficult Thanksgiving for many of us. Perhaps our usual family or friends gatherings are not happening. As the rains and cold weather have arrived\, even the little outdoor gatherings that we may have had\, are disappearing. Financial worries may be weighing on you or your families. Sometimes focusing on the things we have to be grateful for can be a helpful antidote to feeling overwhelmed. In this spirit\, and the spirit of Thanksgiving\, we are offering a Gratefulness Shabbat. We would like folks who want to participate to share a reading\, poem\, painting etc that shares your feelings or thoughts about gratitude. If you can\, I would love to make your sharings into a PDF that can be mailed out ahead of time. That way\, those participating can absorb your words or get to look at your images more completely. Please send them to Robin Hruska.
URL:https://shirhayam.org/event/greatfulness-shabbat/
LOCATION:Shir Hayam Zoom Room
CATEGORIES:Jewish Holiday
ORGANIZER;CN="Ruach Committee":MAILTO:ruach@shirhayam.org
END:VEVENT
BEGIN:VEVENT
DTSTART;TZID=UTC:20201116T173000
DTEND;TZID=UTC:20201116T190000
DTSTAMP:20260425T204746
CREATED:20201101T135444Z
LAST-MODIFIED:20201101T135444Z
UID:5020-1605547800-1605553200@shirhayam.org
SUMMARY:Kugelettes
DESCRIPTION:Every other Monday in the Shir Hayam Zoom Room – at 5:30 pm to accommodate our East Coast folks.
URL:https://shirhayam.org/event/kugelettes-8/
LOCATION:Shir Hayam Zoom Room
CATEGORIES:Fun
END:VEVENT
BEGIN:VEVENT
DTSTART;TZID=UTC:20201107T090000
DTEND;TZID=UTC:20201107T093000
DTSTAMP:20260425T204746
CREATED:20201031T083653Z
LAST-MODIFIED:20201031T084542Z
UID:5001-1604739600-1604741400@shirhayam.org
SUMMARY:Shabbat Morning Meditation
DESCRIPTION:Meditation with the Goldens– Dick and Linda Golden are generously continuing to lead us in a silent meditation the first Saturday of the month. This month’s date and time is November 7th from 9-9:30. It’s been a lovely way to get together. Hope to see you there. Shir Hayam Zoom Room.
URL:https://shirhayam.org/event/shabbat-meditation/
LOCATION:Shir Hayam Zoom Room
CATEGORIES:Meditation
ORGANIZER;CN="Ruach Committee":MAILTO:ruach@shirhayam.org
END:VEVENT
BEGIN:VEVENT
DTSTART;TZID=UTC:20201105T180000
DTEND;TZID=UTC:20201105T190000
DTSTAMP:20260425T204746
CREATED:20201031T083512Z
LAST-MODIFIED:20201031T084112Z
UID:4999-1604599200-1604602800@shirhayam.org
SUMMARY:Vos Tut Zich?
DESCRIPTION:Thursday\, November 5th\, Post-election Vos Tut Zich check-in. As of this writing\, we don’t know what is in store for us. We do know that we will need to talk about what has happened or is happening. We will gather to 6PM in the Shir Hayam Zoom Room! 
URL:https://shirhayam.org/event/vos-tut-zich-10/
LOCATION:Shir Hayam Zoom Room
ORGANIZER;CN="Ruach Committee":MAILTO:ruach@shirhayam.org
END:VEVENT
BEGIN:VEVENT
DTSTART;TZID=UTC:20201102T173000
DTEND;TZID=UTC:20201102T190000
DTSTAMP:20260425T204746
CREATED:20201101T135303Z
LAST-MODIFIED:20201101T135343Z
UID:5017-1604338200-1604343600@shirhayam.org
SUMMARY:Kugelettes
DESCRIPTION:Every other Monday in the Shir Hayam Zoom Room – at 5:30 pm to accommodate our East Coast folks.
URL:https://shirhayam.org/event/kugelettes-7/
LOCATION:Shir Hayam Zoom Room
CATEGORIES:Fun
END:VEVENT
END:VCALENDAR