BEGIN:VCALENDAR
VERSION:2.0
PRODID:-//Shir Hayam - ECPv6.15.20//NONSGML v1.0//EN
CALSCALE:GREGORIAN
METHOD:PUBLISH
X-WR-CALNAME:Shir Hayam
X-ORIGINAL-URL:https://shirhayam.org
X-WR-CALDESC:Events for Shir Hayam
REFRESH-INTERVAL;VALUE=DURATION:PT1H
X-Robots-Tag:noindex
X-PUBLISHED-TTL:PT1H
BEGIN:VTIMEZONE
TZID:America/Los_Angeles
BEGIN:DAYLIGHT
TZOFFSETFROM:-0800
TZOFFSETTO:-0700
TZNAME:PDT
DTSTART:20220313T100000
END:DAYLIGHT
BEGIN:STANDARD
TZOFFSETFROM:-0700
TZOFFSETTO:-0800
TZNAME:PST
DTSTART:20221106T090000
END:STANDARD
BEGIN:DAYLIGHT
TZOFFSETFROM:-0800
TZOFFSETTO:-0700
TZNAME:PDT
DTSTART:20230312T100000
END:DAYLIGHT
BEGIN:STANDARD
TZOFFSETFROM:-0700
TZOFFSETTO:-0800
TZNAME:PST
DTSTART:20231105T090000
END:STANDARD
BEGIN:DAYLIGHT
TZOFFSETFROM:-0800
TZOFFSETTO:-0700
TZNAME:PDT
DTSTART:20240310T100000
END:DAYLIGHT
BEGIN:STANDARD
TZOFFSETFROM:-0700
TZOFFSETTO:-0800
TZNAME:PST
DTSTART:20241103T090000
END:STANDARD
END:VTIMEZONE
BEGIN:VTIMEZONE
TZID:UTC
BEGIN:STANDARD
TZOFFSETFROM:+0000
TZOFFSETTO:+0000
TZNAME:UTC
DTSTART:20200101T000000
END:STANDARD
END:VTIMEZONE
BEGIN:VEVENT
DTSTART;TZID=America/Los_Angeles:20230729T100000
DTEND;TZID=America/Los_Angeles:20230729T123000
DTSTAMP:20260425T183741
CREATED:20230702T200442Z
LAST-MODIFIED:20230704T203358Z
UID:5898-1690624800-1690633800@shirhayam.org
SUMMARY:Shabbat Morning Service & Potluck
DESCRIPTION:We will have a SHABBAT MORNING SERVICE AT ROBIN AND MIKE’S FOLLOWED BY POTLUCK LUNCH.\n\nPlease join us gathering at Robin and Mike’s on their beautiful deck for Shabbat morning Service and potluck lunch.  In this Shabbat’s parsha\, VaEtchanan.  Moses\, gazing into the promised land\, reiterates our powerful movement from slavery to freedom\, describes how Jews are to live from then on\, passes leadership on to Joshua\, and restates two of the most significant Jewish prayers which we recite in every service.  A very powerful foundational Torah portion. Afterwards\, we’ll have kiddush and potluck lunch together.\n\n 
URL:https://shirhayam.org/event/shabbat-morning-service-potluck/
CATEGORIES:Shabbat
ORGANIZER;CN="Ruach Committee":MAILTO:ruach@shirhayam.org
END:VEVENT
BEGIN:VEVENT
DTSTART;TZID=America/Los_Angeles:20230723T103000
DTEND;TZID=America/Los_Angeles:20230723T123000
DTSTAMP:20260425T183741
CREATED:20230608T195937Z
LAST-MODIFIED:20230617T003000Z
UID:5844-1690108200-1690115400@shirhayam.org
SUMMARY:SUMMER GATHERING
DESCRIPTION:Come out to enjoy our Northwest Summer\, and the company of your Chavurah friends\, on Sunday\, July 23 from 10:30 – 12:30 at the Goldens’. \nParking is limited so please consider car-pooling.
URL:https://shirhayam.org/event/summer-gathering/
CATEGORIES:Fun
ORGANIZER;CN="Coordinating Committee":MAILTO:cc@shirhayam.org
END:VEVENT
BEGIN:VEVENT
DTSTART;TZID=America/Los_Angeles:20230701T090000
DTEND;TZID=America/Los_Angeles:20230701T093000
DTSTAMP:20260425T183741
CREATED:20230608T200512Z
LAST-MODIFIED:20230608T200512Z
UID:5848-1688202000-1688203800@shirhayam.org
SUMMARY:Shabbat Meditation
DESCRIPTION:Shabbat morning meditation offered via Zoom on July 1st\, 9-9:30. Great way to set the mind and spirit for celebrating the sacred space that observing Shabbat provides.
URL:https://shirhayam.org/event/shabbat-meditation-4/
LOCATION:Shir Hayam Zoom Room
CATEGORIES:Meditation,Shabbat
ORGANIZER;CN="Ruach Committee":MAILTO:ruach@shirhayam.org
END:VEVENT
BEGIN:VEVENT
DTSTART;TZID=America/Los_Angeles:20230616T180000
DTEND;TZID=America/Los_Angeles:20230616T203000
DTSTAMP:20260425T183741
CREATED:20230608T200313Z
LAST-MODIFIED:20230608T200313Z
UID:5846-1686938400-1686947400@shirhayam.org
SUMMARY:Shabbat Service & Potluck
DESCRIPTION:Please join us for Shabbat Service and Potluck at Carol Shakow’s on Friday\, June 16th at 6PM. Event will be held outdoors\, with a short Shabbat Service\, singing\, and a potluck. Hope to see you there!
URL:https://shirhayam.org/event/shabbat-service-potluck/
CATEGORIES:Fun,Shabbat
ORGANIZER;CN="Ruach Committee":MAILTO:ruach@shirhayam.org
END:VEVENT
BEGIN:VEVENT
DTSTART;TZID=America/Los_Angeles:20230603T090000
DTEND;TZID=America/Los_Angeles:20230603T093000
DTSTAMP:20260425T183741
CREATED:20230529T192109Z
LAST-MODIFIED:20230704T203647Z
UID:5818-1685782800-1685784600@shirhayam.org
SUMMARY:Meditation
DESCRIPTION:All are welcome to join Dick & Linda Golden in the zoom room for a 30 minute Shabbat meditation on the first Saturday of each month.
URL:https://shirhayam.org/event/meditation-2/
LOCATION:Shir Hayam Zoom Room
CATEGORIES:Meditation,Shabbat
ATTACH;FMTTYPE=image/jpeg:https://shirhayam.org/wp-content/uploads/2022/02/meditation.jpg
ORGANIZER;CN="Ruach Committee":MAILTO:ruach@shirhayam.org
END:VEVENT
BEGIN:VEVENT
DTSTART;TZID=America/Los_Angeles:20230528T100000
DTEND;TZID=America/Los_Angeles:20230528T123000
DTSTAMP:20260425T183741
CREATED:20230529T192358Z
LAST-MODIFIED:20230530T162108Z
UID:5821-1685268000-1685277000@shirhayam.org
SUMMARY:Annual Meeting
DESCRIPTION:SHIR HAYAM’S ANNUAL MEETING \nSunday\, May 28\, 2023\, 10:00 to 12:30 PM \nWe will gather on Zoom (no in-person meeting this year) to: \n\nHear from our committees – their activities from this past year\, as well as plans for next year.\n\n\nVote on the budget for 2023-2024 and new Coordinating committee members.\n\nPlease come to participate and to support our very special community. \nAgenda and review materials will be emailed to all members before the meeting. \nAn in-person Community Meeting is being planned – stay tuned for the date! \nYour Coordinating Committee\, \nCay Vandervelde\, Paul Travis\, Jill Onewein\, Jon Garfunkel\, Jane Greenberg
URL:https://shirhayam.org/event/annual-meeting/
LOCATION:Shir Hayam Zoom Room
CATEGORIES:Community Meeting
ORGANIZER;CN="Coordinating Committee":MAILTO:cc@shirhayam.org
END:VEVENT
BEGIN:VEVENT
DTSTART;TZID=UTC:20220213T100000
DTEND;TZID=UTC:20220213T120000
DTSTAMP:20260425T183741
CREATED:20220209T084024Z
LAST-MODIFIED:20220209T084024Z
UID:5566-1644746400-1644753600@shirhayam.org
SUMMARY:Coordinating Committee Meeting
DESCRIPTION:
URL:https://shirhayam.org/event/coordinating-committee-meeting-13/
LOCATION:Shir Hayam Zoom Room
CATEGORIES:Committee Meeting
ORGANIZER;CN="Coordinating Committee":MAILTO:cc@shirhayam.org
END:VEVENT
BEGIN:VEVENT
DTSTART;TZID=UTC:20220205T093000
DTEND;TZID=UTC:20220205T100000
DTSTAMP:20260425T183741
CREATED:20220209T083655Z
LAST-MODIFIED:20220209T083655Z
UID:5564-1644053400-1644055200@shirhayam.org
SUMMARY:Meditation
DESCRIPTION:
URL:https://shirhayam.org/event/meditation/
LOCATION:Shir Hayam Zoom Room
CATEGORIES:Meditation
ORGANIZER;CN="Ruach Committee":MAILTO:ruach@shirhayam.org
END:VEVENT
BEGIN:VEVENT
DTSTART;TZID=UTC:20220101T080000
DTEND;TZID=UTC:20220131T170000
DTSTAMP:20260425T183741
CREATED:20220105T071513Z
LAST-MODIFIED:20220105T071513Z
UID:5503-1641024000-1643648400@shirhayam.org
SUMMARY:January Calendar
DESCRIPTION:
URL:https://shirhayam.org/event/january-calendar/
END:VEVENT
BEGIN:VEVENT
DTSTART;TZID=UTC:20210916T080000
DTEND;TZID=UTC:20210916T170000
DTSTAMP:20260425T183741
CREATED:20210704T234324Z
LAST-MODIFIED:20210704T234324Z
UID:5359-1631779200-1631811600@shirhayam.org
SUMMARY:Yom Kippur
DESCRIPTION:details TBD
URL:https://shirhayam.org/event/yom-kippur-5/
END:VEVENT
BEGIN:VEVENT
DTSTART;TZID=UTC:20210915T080000
DTEND;TZID=UTC:20210915T170000
DTSTAMP:20260425T183741
CREATED:20210704T234525Z
LAST-MODIFIED:20210704T234525Z
UID:5357-1631692800-1631725200@shirhayam.org
SUMMARY:Kol Nidre
DESCRIPTION:details TBD
URL:https://shirhayam.org/event/kol-nidre-5/
END:VEVENT
BEGIN:VEVENT
DTSTART;TZID=UTC:20210907T080000
DTEND;TZID=UTC:20210907T170000
DTSTAMP:20260425T183741
CREATED:20210704T234209Z
LAST-MODIFIED:20210704T234209Z
UID:5355-1631001600-1631034000@shirhayam.org
SUMMARY:Rosh Hashana
DESCRIPTION:details TBD
URL:https://shirhayam.org/event/rosh-hashana/
END:VEVENT
BEGIN:VEVENT
DTSTART;TZID=UTC:20210906T080000
DTEND;TZID=UTC:20210906T170000
DTSTAMP:20260425T183741
CREATED:20210704T234134Z
LAST-MODIFIED:20210704T234134Z
UID:5353-1630915200-1630947600@shirhayam.org
SUMMARY:Erev Rosh Hashana
DESCRIPTION:details to follow
URL:https://shirhayam.org/event/erev-rosh-hashana/
END:VEVENT
BEGIN:VEVENT
DTSTART;TZID=UTC:20210904T090000
DTEND;TZID=UTC:20210904T213000
DTSTAMP:20260425T183741
CREATED:20210902T063325Z
LAST-MODIFIED:20210902T063325Z
UID:5410-1630746000-1630791000@shirhayam.org
SUMMARY:Shabbat Meditation
DESCRIPTION:Dick and Linda Golden will lead a Zoom meditation. \n  \n  \n  \n  \n  \n  \n  \n  \n  \n  \n  \n  \n  \n  \n  \n  \n  \n  \n  \n 
URL:https://shirhayam.org/event/shabbat-meditation-3/
LOCATION:Shir Hayam Zoom Room
END:VEVENT
BEGIN:VEVENT
DTSTART;TZID=UTC:20210807T093000
DTEND;TZID=UTC:20210807T110000
DTSTAMP:20260425T183741
CREATED:20210704T234044Z
LAST-MODIFIED:20210704T234044Z
UID:5351-1628328600-1628334000@shirhayam.org
SUMMARY:Shabbat Morning Meditation & Potluck Brunch
DESCRIPTION:Dick and Linda have been leading us in meditation on the first Saturday of the month for the last several months. Next month (Saturday\, August 7th) we will have a special in-person meditation & potluck brunch. Meditation 9:30-10:00am\, brunch to follow. Please come join us for a lovely time to tune in and meditate together. Dick and Linda start us off with some guidance followed by a period of silent meditation. It is a lovely centering way to begin the month. Hope to see you there.
URL:https://shirhayam.org/event/shabbat-morning-meditation-potluck-brunch/
CATEGORIES:Fun,Meditation
END:VEVENT
BEGIN:VEVENT
DTSTART;TZID=UTC:20210726T190000
DTEND;TZID=UTC:20210726T190000
DTSTAMP:20260425T183741
CREATED:20210704T234740Z
LAST-MODIFIED:20210704T234740Z
UID:5363-1627326000-1627326000@shirhayam.org
SUMMARY:Kugelettes
DESCRIPTION:all are welcome
URL:https://shirhayam.org/event/kugelettes-19/
CATEGORIES:Fun
END:VEVENT
BEGIN:VEVENT
DTSTART;TZID=UTC:20210712T190000
DTEND;TZID=UTC:20210712T190000
DTSTAMP:20260425T183741
CREATED:20210704T234642Z
LAST-MODIFIED:20210704T234658Z
UID:5361-1626116400-1626116400@shirhayam.org
SUMMARY:Kugelettes
DESCRIPTION:All are welcome.
URL:https://shirhayam.org/event/kugelettes-18/
CATEGORIES:Fun
END:VEVENT
BEGIN:VEVENT
DTSTART;TZID=UTC:20210703T090000
DTEND;TZID=UTC:20210703T093000
DTSTAMP:20260425T183741
CREATED:20210702T035804Z
LAST-MODIFIED:20210702T035959Z
UID:5334-1625302800-1625304600@shirhayam.org
SUMMARY:SHABBAT MORNING MEDITATION
DESCRIPTION:Dick and Linda will lead their monthly meditation this Saturday\, July 3\, from 9-9:30 am. Please come join us for a lovely time to tune in and meditate together. Dick and Linda start us off with some guidance followed by a period of silent meditation. It is a lovely centering way to begin the month. Hope to see you there. In the Zoom Room.
URL:https://shirhayam.org/event/shabbat-morning-meditation-9/
LOCATION:Shir Hayam Zoom Room
END:VEVENT
BEGIN:VEVENT
DTSTART;TZID=UTC:20210627T100000
DTEND;TZID=UTC:20210627T120000
DTSTAMP:20260425T183741
CREATED:20210602T214151Z
LAST-MODIFIED:20210602T214151Z
UID:5328-1624788000-1624795200@shirhayam.org
SUMMARY:ANNUAL MEETING
DESCRIPTION:Save the date – Sunday\, June 27th. We’ll elect new Coordinating Committee members\, approve the budget and complete all the other exciting agenda items! In the Shir Hayam Zoom Room. Complete details & agenda going out by email later this month.
URL:https://shirhayam.org/event/annual-meeting-4/
LOCATION:Shir Hayam Zoom Room
END:VEVENT
BEGIN:VEVENT
DTSTART;TZID=UTC:20210606T100000
DTEND;TZID=UTC:20210606T120000
DTSTAMP:20260425T183741
CREATED:20210602T214402Z
LAST-MODIFIED:20210602T214413Z
UID:5330-1622973600-1622980800@shirhayam.org
SUMMARY:Coordinating Committee Meeting
DESCRIPTION:Next CC meeting Sunday June 6th at 10 AM.  As always SH members are most welcome to attend. Join us in the SH Zoom Room. Contact the committee at cc@shirhayam.org.
URL:https://shirhayam.org/event/coordinating-committee-meeting-12/
LOCATION:Shir Hayam Zoom Room
CATEGORIES:Committee Meeting
END:VEVENT
BEGIN:VEVENT
DTSTART;TZID=UTC:20210605T090000
DTEND;TZID=UTC:20210605T093000
DTSTAMP:20260425T183741
CREATED:20210602T214038Z
LAST-MODIFIED:20210602T214038Z
UID:5326-1622883600-1622885400@shirhayam.org
SUMMARY:SHABBAT MORNING MEDITATION
DESCRIPTION:Dick and Linda will lead their monthly meditation this Saturday June 5\, from 9-9:30 am. Please come join us for a lovely time to tune in and meditate together. Dick and Linda start us off with some guidance followed by a period of silent meditation. It is a lovely centering way to begin the month. Hope to see you there. In the Zoom Room
URL:https://shirhayam.org/event/shabbat-morning-meditation-8/
LOCATION:Shir Hayam Zoom Room
END:VEVENT
BEGIN:VEVENT
DTSTART;TZID=UTC:20210604T173000
DTEND;TZID=UTC:20210604T190000
DTSTAMP:20260425T183741
CREATED:20210602T213920Z
LAST-MODIFIED:20210602T213920Z
UID:5324-1622827800-1622833200@shirhayam.org
SUMMARY:SHABBAT - Friday Night In-Person
DESCRIPTION:June 4th at 5:30 PM\, Shabbat gathering at the home of Robin Hruska and Mike Orr. An outdoor gathering to welcome in the Sabbath. In person catch up and simple Sabbath service.  We are about to see our unvaccinated grandchildren\, so please wear a mask if you are not fully vaccinated. Like with Lag B’Omar\, we still think it best that everyone provide their own food and dinnerware/utensils. Hope to see you there! Call Robin for more info.
URL:https://shirhayam.org/event/shabbat-friday-night-in-person/
END:VEVENT
BEGIN:VEVENT
DTSTART;TZID=UTC:20210430T080000
DTEND;TZID=UTC:20210430T170000
DTSTAMP:20260425T183741
CREATED:20210401T080454Z
LAST-MODIFIED:20210401T080454Z
UID:5276-1619769600-1619802000@shirhayam.org
SUMMARY:LAG B’OMER
DESCRIPTION:Save the Date – April 30th. Lag B’Omer\, traditionally a picnic to commemorate the passing of Rabbi Shimon Bar Yochai\, Lag B’Omer is also a celebration of the end of the plague in the time of Rabbi Akiva. We are planning to meet masked and in person in Caroline and Eric Steven’s garden. More details to follow.
URL:https://shirhayam.org/event/lag-bomer/
LOCATION:Shir Hayam Zoom Room
CATEGORIES:Jewish Holiday
END:VEVENT
BEGIN:VEVENT
DTSTART;TZID=UTC:20210419T173000
DTEND;TZID=UTC:20210419T183000
DTSTAMP:20260425T183741
CREATED:20210401T075620Z
LAST-MODIFIED:20210401T075620Z
UID:5272-1618853400-1618857000@shirhayam.org
SUMMARY:Kugelettes
DESCRIPTION:All welcome to come and visit and maybe even sing.
URL:https://shirhayam.org/event/kugelettes-17/
LOCATION:Shir Hayam Zoom Room
END:VEVENT
BEGIN:VEVENT
DTSTART;TZID=UTC:20210418T100000
DTEND;TZID=UTC:20210418T120000
DTSTAMP:20260425T183741
CREATED:20210302T142045Z
LAST-MODIFIED:20210302T142045Z
UID:5237-1618740000-1618747200@shirhayam.org
SUMMARY:Coordinating Committee Meeting
DESCRIPTION:April 18 at 10 am – SH members are most welcome to attend. Join us in the SH Zoom Room. Agenda: \n\nAction Item Review\nJewish Community Watch Report (if needed)\nGovernance Document Update Plan\nFinancial Guidelines Scope\nMember Categories/Definition Input results\nAnnual Mtg Prep (5 comms total over next few meetings)\nRuach Committee and Cemetery Committee present\n\n  \n 
URL:https://shirhayam.org/event/coordinating-committee-meeting-11/
LOCATION:Shir Hayam Zoom Room
CATEGORIES:Committee Meeting
ORGANIZER;CN="Coordinating Committee":MAILTO:cc@shirhayam.org
END:VEVENT
BEGIN:VEVENT
DTSTART;TZID=UTC:20210416T173000
DTEND;TZID=UTC:20210416T190000
DTSTAMP:20260425T183741
CREATED:20210401T075727Z
LAST-MODIFIED:20210401T080347Z
UID:5274-1618594200-1618599600@shirhayam.org
SUMMARY:SHABBAT
DESCRIPTION:Shabbat Evening March 16th at 5:30  Dee Axelrod will lead us in this month’s evening Shabbat in the Zoom Room. April is Poetry Month\, and April is a time when we find days lengthening.  So for this Shabbat\, we’ll explore “light” in poetry and any other forms of writing. (or music. whatever people want to bring to the table).  Whether it’s the spotlight of social justice shining on this particular moment\, or the feeling of literally emerging from our houses back into the light\, Wherever the notion of “light” takes you. Each year the month of April is set aside as National Poetry Month\, a time to celebrate poets and their craft.
URL:https://shirhayam.org/event/shabbat-11/
LOCATION:Shir Hayam Zoom Room
CATEGORIES:Jewish Holiday
END:VEVENT
BEGIN:VEVENT
DTSTART;TZID=UTC:20210411T110000
DTEND;TZID=UTC:20210411T123000
DTSTAMP:20260425T183741
CREATED:20210302T140919Z
LAST-MODIFIED:20210401T075300Z
UID:5226-1618138800-1618144200@shirhayam.org
SUMMARY:SUQUAMISH ELDER BARBARA LAWRENCE
DESCRIPTION:WE WELCOME SUQUAMISH ELDER BARBARA LAWRENCE\nAt a time when white nationalism is on the rise\, Shir Hayam is ramping up engagement with issues of social justice and diversity at the ground level. One effort underway is outreach to strengthen ties with the Suquamish Tribe\, our Indigenous neighbors. \nOn Sunday March 14 at 11 AM Shir Hayam welcomes Suquamish Tribal elder Barbara Lawrence. Barbara was for years the Suquamish Museum’s official story-teller and is currently the Tribe’s Outreach Coordinator. Her talk will feature Suquamish history\, geography\, art and herbal lore. She will share Suquamish stories\, and speak to her Tribe’s deep and abiding connection to their ancestral land. \nThe Shir Hayam community has offered support to the bereaved family of Stonechild Chiefstick in the form of a donation to help underwrite a memorial the family plans to build. Chiefstick\, an enrolled Chippewa Cree and cherished member of the extended Suquamish Tribal community\, was killed by a Poulsbo police officer on July 3\, 2019.  Chiefstick is buried in Seabold Cemetery\, and so his gravesite is adjacent to Shir Hayam’s plots there.
URL:https://shirhayam.org/event/suquamish-elder-barbara-lawrence/
LOCATION:Shir Hayam Zoom Room
CATEGORIES:Adult Education,Cultural Events
END:VEVENT
BEGIN:VEVENT
DTSTART;TZID=UTC:20210405T173000
DTEND;TZID=UTC:20210405T183000
DTSTAMP:20260425T183741
CREATED:20210401T075529Z
LAST-MODIFIED:20210401T075529Z
UID:5270-1617643800-1617647400@shirhayam.org
SUMMARY:Kugelettes
DESCRIPTION:All welcome to come and visit and maybe even sing.
URL:https://shirhayam.org/event/kugelettes-16/
LOCATION:Shir Hayam Zoom Room
END:VEVENT
BEGIN:VEVENT
DTSTART;TZID=UTC:20210403T090000
DTEND;TZID=UTC:20210403T093000
DTSTAMP:20260425T183741
CREATED:20210401T075408Z
LAST-MODIFIED:20210401T075408Z
UID:5268-1617440400-1617442200@shirhayam.org
SUMMARY:SHABBAT MORNING MEDITATION
DESCRIPTION:Dick Golden will lead us in meditation Saturday\, April 3rd 9-9:30 am. It is a wonderful\, intimate gathering and a lovely way to start your morning & your month. In the Shir Hayam Zoom Room.
URL:https://shirhayam.org/event/shabbat-morning-meditation-6/
LOCATION:Shir Hayam Zoom Room
END:VEVENT
BEGIN:VEVENT
DTSTART;TZID=UTC:20210401T080000
DTEND;TZID=UTC:20210401T170000
DTSTAMP:20260425T183741
CREATED:20210401T080619Z
LAST-MODIFIED:20210401T080619Z
UID:5278-1617264000-1617296400@shirhayam.org
SUMMARY:SHABBAT MORNING MEDITATION 
DESCRIPTION:Dick & Linda Golden will lead us in meditation Saturday\, April 3rd 9-9:30 am. It is a wonderful\, intimate gathering and a lovely way to start your morning & your month. In the Shir Hayam Zoom Room.
URL:https://shirhayam.org/event/shabbat-morning-meditation-7/
CATEGORIES:Jewish Holiday,Meditation
END:VEVENT
END:VCALENDAR