BEGIN:VCALENDAR
VERSION:2.0
PRODID:-//Shir Hayam - ECPv6.15.20//NONSGML v1.0//EN
CALSCALE:GREGORIAN
METHOD:PUBLISH
X-WR-CALNAME:Shir Hayam
X-ORIGINAL-URL:https://shirhayam.org
X-WR-CALDESC:Events for Shir Hayam
REFRESH-INTERVAL;VALUE=DURATION:PT1H
X-Robots-Tag:noindex
X-PUBLISHED-TTL:PT1H
BEGIN:VTIMEZONE
TZID:UTC
BEGIN:STANDARD
TZOFFSETFROM:+0000
TZOFFSETTO:+0000
TZNAME:UTC
DTSTART:20180101T000000
END:STANDARD
END:VTIMEZONE
BEGIN:VEVENT
DTSTART;TZID=UTC:20201120T180000
DTEND;TZID=UTC:20201120T193000
DTSTAMP:20260425T183629
CREATED:20201031T083841Z
LAST-MODIFIED:20201031T085546Z
UID:5003-1605895200-1605900600@shirhayam.org
SUMMARY:Gratefulness Shabbat
DESCRIPTION:Friday\, November 20th 6PM Shabbat We are aware that this may be a very difficult Thanksgiving for many of us. Perhaps our usual family or friends gatherings are not happening. As the rains and cold weather have arrived\, even the little outdoor gatherings that we may have had\, are disappearing. Financial worries may be weighing on you or your families. Sometimes focusing on the things we have to be grateful for can be a helpful antidote to feeling overwhelmed. In this spirit\, and the spirit of Thanksgiving\, we are offering a Gratefulness Shabbat. We would like folks who want to participate to share a reading\, poem\, painting etc that shares your feelings or thoughts about gratitude. If you can\, I would love to make your sharings into a PDF that can be mailed out ahead of time. That way\, those participating can absorb your words or get to look at your images more completely. Please send them to Robin Hruska.
URL:https://shirhayam.org/event/greatfulness-shabbat/
LOCATION:Shir Hayam Zoom Room
CATEGORIES:Jewish Holiday
ORGANIZER;CN="Ruach Committee":MAILTO:ruach@shirhayam.org
END:VEVENT
BEGIN:VEVENT
DTSTART;TZID=UTC:20201011T140000
DTEND;TZID=UTC:20201011T150000
DTSTAMP:20260425T183629
CREATED:20200820T070231Z
LAST-MODIFIED:20201010T084526Z
UID:4897-1602424800-1602428400@shirhayam.org
SUMMARY:Sukkot
DESCRIPTION:Come Celebrate Sukkot on Sunday\, October 11th at 2 pm in the Shir Hayam Zoom Room\nPlease bring to zoom: \n\nA bowl with harvest fruits and vegetables\nThree branches\, tied together at the base\, and a lemon\nA pen and/or pencil
URL:https://shirhayam.org/event/sukkot-simchat-torah/
LOCATION:Shir Hayam Zoom Room
CATEGORIES:Fun,Jewish Holiday
ORGANIZER;CN="Ruach Committee":MAILTO:ruach@shirhayam.org
END:VEVENT
BEGIN:VEVENT
DTSTART;TZID=UTC:20200928T180000
DTEND;TZID=UTC:20200928T193000
DTSTAMP:20260425T183629
CREATED:20200820T065937Z
LAST-MODIFIED:20200820T065937Z
UID:4895-1601316000-1601321400@shirhayam.org
SUMMARY:Neilah Service
DESCRIPTION:Bring your dinner to the Shir Hayam Zoom Room and we will break the fast together after the service. \n 
URL:https://shirhayam.org/event/neilah-service/
LOCATION:Shir Hayam Zoom Room
CATEGORIES:Fun,Jewish Holiday
ORGANIZER;CN="Ruach Committee":MAILTO:ruach@shirhayam.org
END:VEVENT
BEGIN:VEVENT
DTSTART;TZID=UTC:20200928T140000
DTEND;TZID=UTC:20200928T150000
DTSTAMP:20260425T183629
CREATED:20200820T065721Z
LAST-MODIFIED:20200820T065736Z
UID:4892-1601301600-1601305200@shirhayam.org
SUMMARY:Yom Kippur Meditation/Yizkor
DESCRIPTION:Meditation at 2 p.m.\nYizkor Service at 2:30 p.m. \nHosted by the Goldens in the Shir Hayam Zoom Room.
URL:https://shirhayam.org/event/yom-kippur-meditation-yizkor/
LOCATION:Shir Hayam Zoom Room
CATEGORIES:Jewish Holiday
ORGANIZER;CN="Ruach Committee":MAILTO:ruach@shirhayam.org
END:VEVENT
BEGIN:VEVENT
DTSTART;TZID=UTC:20200927T180000
DTEND;TZID=UTC:20200927T193000
DTSTAMP:20260425T183629
CREATED:20200820T065430Z
LAST-MODIFIED:20200820T065430Z
UID:4890-1601229600-1601235000@shirhayam.org
SUMMARY:Erev Yom Kippur/Kol Nidre
DESCRIPTION:In the Shir Hayam Zoom Room. The link will be arriving by email.
URL:https://shirhayam.org/event/erev-yom-kippur-kol-nidre/
LOCATION:Shir Hayam Zoom Room
CATEGORIES:Jewish Holiday
ORGANIZER;CN="Ruach Committee":MAILTO:ruach@shirhayam.org
END:VEVENT
BEGIN:VEVENT
DTSTART;TZID=UTC:20200919T150000
DTEND;TZID=UTC:20200919T170000
DTSTAMP:20260425T183629
CREATED:20200820T065221Z
LAST-MODIFIED:20200820T065221Z
UID:4888-1600527600-1600534800@shirhayam.org
SUMMARY:Tashlich
DESCRIPTION:There will be a few waterfront locations/times to choose from. Watch your email for details.
URL:https://shirhayam.org/event/tashlich-4/
LOCATION:TBD
CATEGORIES:Jewish Holiday
ORGANIZER;CN="Ruach Committee":MAILTO:ruach@shirhayam.org
END:VEVENT
BEGIN:VEVENT
DTSTART;TZID=UTC:20200919T130000
DTEND;TZID=UTC:20200919T143000
DTSTAMP:20260425T183629
CREATED:20200820T064931Z
LAST-MODIFIED:20200820T064932Z
UID:4886-1600520400-1600525800@shirhayam.org
SUMMARY:Rosh Hashanah Discussion/Study Session
DESCRIPTION:Topic – “Our High Holidays\, our history\, ourselves in these times” \nIn the Shir Hayam Zoom Room – watch your email for the link.
URL:https://shirhayam.org/event/rosh-hashanah-discussion-study-session/
LOCATION:Shir Hayam Zoom Room
CATEGORIES:Adult Education,Jewish Holiday
ORGANIZER;CN="Ruach Committee":MAILTO:ruach@shirhayam.org
END:VEVENT
BEGIN:VEVENT
DTSTART;TZID=UTC:20200918T180000
DTEND;TZID=UTC:20200918T193000
DTSTAMP:20260425T183629
CREATED:20200820T064539Z
LAST-MODIFIED:20200820T065016Z
UID:4883-1600452000-1600457400@shirhayam.org
SUMMARY:Erev Rosh Hashanah
DESCRIPTION:Join us in the Shir Hayam Zoom Room. Watch your email for the link.
URL:https://shirhayam.org/event/erev-rosh-hashanah-5/
LOCATION:Shir Hayam Zoom Room
CATEGORIES:Jewish Holiday
ORGANIZER;CN="Ruach Committee":MAILTO:ruach@shirhayam.org
END:VEVENT
BEGIN:VEVENT
DTSTART;TZID=UTC:20200905T090000
DTEND;TZID=UTC:20200905T093000
DTSTAMP:20260425T183629
CREATED:20200902T054938Z
LAST-MODIFIED:20200902T054938Z
UID:4937-1599296400-1599298200@shirhayam.org
SUMMARY:Shabbat Morning Meditation
DESCRIPTION:Meditation with the Goldens – The Goldens are offering  meditation sessions on the first Saturday of the month. This month the date is Saturday\, September 5 from 9-9:30 am. It has been a lovely time to meet and have some focused meditation time together. In the Shir Hayam Zoom Room.
URL:https://shirhayam.org/event/shabbat-morning-meditation-3/
LOCATION:Shir Hayam Zoom Room
CATEGORIES:Jewish Holiday,Meditation
ORGANIZER;CN="Ruach Committee":MAILTO:ruach@shirhayam.org
END:VEVENT
BEGIN:VEVENT
DTSTART;TZID=UTC:20200828T183000
DTEND;TZID=UTC:20200828T193000
DTSTAMP:20260425T183629
CREATED:20200804T051309Z
LAST-MODIFIED:20200804T051309Z
UID:4873-1598639400-1598643000@shirhayam.org
SUMMARY:Shabbat - Friday Night Service
DESCRIPTION:details will be distributed by email later in the month
URL:https://shirhayam.org/event/shabbat-friday-night-service/
LOCATION:Shir Hayam Zoom Room
CATEGORIES:Jewish Holiday
END:VEVENT
BEGIN:VEVENT
DTSTART;TZID=UTC:20200815T090000
DTEND;TZID=UTC:20200815T093000
DTSTAMP:20260425T183629
CREATED:20200804T050934Z
LAST-MODIFIED:20200804T050934Z
UID:4867-1597482000-1597483800@shirhayam.org
SUMMARY:Shabbat Morning Meditation
DESCRIPTION:Led by Dick & Linda Golden
URL:https://shirhayam.org/event/shabbat-morning-meditation-2/
LOCATION:Shir Hayam Zoom Room
CATEGORIES:Jewish Holiday
END:VEVENT
BEGIN:VEVENT
DTSTART;TZID=UTC:20200731T190000
DTEND;TZID=UTC:20200731T200000
DTSTAMP:20260425T183629
CREATED:20200701T065438Z
LAST-MODIFIED:20200701T065438Z
UID:4817-1596222000-1596225600@shirhayam.org
SUMMARY:Shabbat
DESCRIPTION:details tbd
URL:https://shirhayam.org/event/shabbat-9/
LOCATION:Shir Hayam Zoom Room
CATEGORIES:Jewish Holiday
END:VEVENT
BEGIN:VEVENT
DTSTART;TZID=UTC:20200718T090000
DTEND;TZID=UTC:20200718T093000
DTSTAMP:20260425T183629
CREATED:20200701T065256Z
LAST-MODIFIED:20200701T065256Z
UID:4814-1595062800-1595064600@shirhayam.org
SUMMARY:Shabbat Morning Meditation
DESCRIPTION:Shabbat Meditation led by Dick & Linda Golden
URL:https://shirhayam.org/event/shabbat-morning-meditation/
LOCATION:Shir Hayam Zoom Room
CATEGORIES:Jewish Holiday
END:VEVENT
BEGIN:VEVENT
DTSTART;TZID=UTC:20200717T180000
DTEND;TZID=UTC:20200717T193000
DTSTAMP:20260425T183629
CREATED:20200701T065118Z
LAST-MODIFIED:20200715T055426Z
UID:4812-1595008800-1595014200@shirhayam.org
SUMMARY:Shabbat
DESCRIPTION:Led by Sharon Rutzick & Nina Rogozen
URL:https://shirhayam.org/event/shabbat-8/
LOCATION:Shir Hayam Zoom Room
CATEGORIES:Jewish Holiday
END:VEVENT
BEGIN:VEVENT
DTSTART;TZID=UTC:20200523T190000
DTEND;TZID=UTC:20200523T200000
DTSTAMP:20260425T183629
CREATED:20200516T065852Z
LAST-MODIFIED:20200516T065852Z
UID:4758-1590260400-1590264000@shirhayam.org
SUMMARY:Havdalah
DESCRIPTION:Come celebrate the good week. Michelle Lyon will be leading.
URL:https://shirhayam.org/event/havdalah-3/
LOCATION:Shir Hayam Zoom Room
CATEGORIES:Jewish Holiday
END:VEVENT
BEGIN:VEVENT
DTSTART;TZID=UTC:20200508T070000
DTEND;TZID=UTC:20200508T203000
DTSTAMP:20260425T183629
CREATED:20200516T064914Z
LAST-MODIFIED:20200516T064914Z
UID:4745-1588921200-1588969800@shirhayam.org
SUMMARY:Shabbat
DESCRIPTION:Jon will lead this virtual Shabbat celebration.
URL:https://shirhayam.org/event/shabbat-7/
CATEGORIES:Jewish Holiday
END:VEVENT
BEGIN:VEVENT
DTSTART;TZID=UTC:20200411T163000
DTEND;TZID=UTC:20200411T193000
DTSTAMP:20260425T183629
CREATED:20200331T075012Z
LAST-MODIFIED:20200331T075012Z
UID:4700-1586622600-1586633400@shirhayam.org
SUMMARY:Passover Seder
DESCRIPTION:Saturday\, April 11th at 4:30. Hosted by Jon Garfunkle. See Newsletter or email invite for the Haggadah we will be using.
URL:https://shirhayam.org/event/passover-seder/
CATEGORIES:Jewish Holiday
END:VEVENT
BEGIN:VEVENT
DTSTART;TZID=UTC:20200307T173000
DTEND;TZID=UTC:20200307T193000
DTSTAMP:20260425T183629
CREATED:20200301T140111Z
LAST-MODIFIED:20200306T121832Z
UID:4648-1583602200-1583609400@shirhayam.org
SUMMARY:Purim Party - Cancelled
DESCRIPTION:We have cancelled our Purim Celebration.
URL:https://shirhayam.org/event/purim-party-2/
CATEGORIES:Cultural Events,Fun,Jewish Holiday
END:VEVENT
BEGIN:VEVENT
DTSTART;TZID=UTC:20200221T180000
DTEND;TZID=UTC:20200221T200000
DTSTAMP:20260425T183629
CREATED:20200101T044605Z
LAST-MODIFIED:20200128T054411Z
UID:4586-1582308000-1582315200@shirhayam.org
SUMMARY:Shabbat
DESCRIPTION:
URL:https://shirhayam.org/event/shabbat-6/
CATEGORIES:Jewish Holiday
END:VEVENT
BEGIN:VEVENT
DTSTART;TZID=UTC:20200209T133000
DTEND;TZID=UTC:20200209T153000
DTSTAMP:20260425T183629
CREATED:20200101T044323Z
LAST-MODIFIED:20200128T053936Z
UID:4579-1581255000-1581262200@shirhayam.org
SUMMARY:Tu B'Shevat Seder
DESCRIPTION:Come celebrate the New Year of the Trees with a Tu B’Shevat Seder and tree planting. Trees and shrubs will be available for you to take home and plant in your yard.\n\nFebruary 9\, 1:30 pm at the Rappaport’s\n\nPlease click on the sign up genius link if you want to bring something for the Seder.\n\nhttps://www.signupgenius.com/go/10C094BABA92DA31-tubshevat \n\nQuestions? More Information? Email Carol Rappaport
URL:https://shirhayam.org/event/tu-bshevat-2/
CATEGORIES:Events,Fun,Jewish Holiday
END:VEVENT
BEGIN:VEVENT
DTSTART;TZID=UTC:20200124T173000
DTEND;TZID=UTC:20200124T200000
DTSTAMP:20260425T183629
CREATED:20200101T044037Z
LAST-MODIFIED:20200110T234949Z
UID:4575-1579887000-1579896000@shirhayam.org
SUMMARY:Shabbat/Potluck/Movie Night
DESCRIPTION:The documentary is about a small group of crypto Jews who have lived along the border of Portugal and Spain for many years. They believed they were the only Jews left in the world!
URL:https://shirhayam.org/event/shabbat-5/
CATEGORIES:Jewish Holiday
END:VEVENT
BEGIN:VEVENT
DTSTART;TZID=UTC:20191222T160000
DTEND;TZID=UTC:20191222T200000
DTSTAMP:20260425T183629
CREATED:20191104T004643Z
LAST-MODIFIED:20191203T060004Z
UID:4505-1577030400-1577044800@shirhayam.org
SUMMARY:Chanukah Party
DESCRIPTION:Sunday 12/22/2019\,  4PM at the Rappaports’ home.\n\n \n\n\n\n \n\nPlease join us to celebrate the first night of Chanukah with candle lighting\, singing\, dreidels\, latkes\, discussion and a potluck supper.\n\n \n\nFor more information contact Carol Rappaport or call 206-567-9414.
URL:https://shirhayam.org/event/chanukah-party-3/
CATEGORIES:Cultural Events,Fun,Jewish Holiday
END:VEVENT
BEGIN:VEVENT
DTSTART;TZID=UTC:20191020T140000
DTEND;TZID=UTC:20191020T163000
DTSTAMP:20260425T183629
CREATED:20191004T230840Z
LAST-MODIFIED:20191004T230840Z
UID:4418-1571580000-1571589000@shirhayam.org
SUMMARY:SUKKOT
DESCRIPTION:Sukkot October 20\, 2 PM will be celebrated at the home of Mike Orr and Robin Hruska. Come celebrate the harvest season and give thanks. If you have any willow\, myrtle (crape myrtle is popular in these parts) or palm\, please let Robin H know so we can make lulav to shake. Bring a snack (harvest themed?) to share. Any questions call Robin Hruska 360-297-4228 or Jon Garfunkel 206-276-7240. PLEASE NOTE:  This is a date change from last month’s newsletter.
URL:https://shirhayam.org/event/sukkot/
CATEGORIES:Jewish Holiday
END:VEVENT
BEGIN:VEVENT
DTSTART;TZID=UTC:20191009T180000
DTEND;TZID=UTC:20191009T200000
DTSTAMP:20260425T183629
CREATED:20191004T230007Z
LAST-MODIFIED:20191004T230007Z
UID:4407-1570644000-1570651200@shirhayam.org
SUMMARY:Neilah/Break the Fast
DESCRIPTION:Neilah Closing Service: Wednesday\, October 9 at 6 pm (at Seabold Hall)\, followed by our traditional Break-the-Fast potluck.
URL:https://shirhayam.org/event/neilah-break-the-fast/
CATEGORIES:Jewish Holiday
END:VEVENT
BEGIN:VEVENT
DTSTART;TZID=UTC:20191009T143000
DTEND;TZID=UTC:20191009T163000
DTSTAMP:20260425T183629
CREATED:20191004T225848Z
LAST-MODIFIED:20191004T225848Z
UID:4405-1570631400-1570638600@shirhayam.org
SUMMARY:Yiskor/Meditation
DESCRIPTION:Yiskor Service: at the home of Linda and Dick Golden. Arrive at 2:30 for an optional guided meditation session\, or 3 pm for Yiskor.
URL:https://shirhayam.org/event/yiskor-meditation/
CATEGORIES:Jewish Holiday
END:VEVENT
BEGIN:VEVENT
DTSTART;TZID=UTC:20191008T190000
DTEND;TZID=UTC:20191008T210000
DTSTAMP:20260425T183629
CREATED:20191004T225748Z
LAST-MODIFIED:20191004T225748Z
UID:4403-1570561200-1570568400@shirhayam.org
SUMMARY:Kol Nidre
DESCRIPTION:Kol Nidre / Erev Yom Kippur Service: Tuesday\, October 8 at 7 pm (at Seabold Hall)
URL:https://shirhayam.org/event/kol-nidre-4/
CATEGORIES:Jewish Holiday
END:VEVENT
BEGIN:VEVENT
DTSTART;TZID=UTC:20190930T151500
DTEND;TZID=UTC:20190930T160000
DTSTAMP:20260425T183629
CREATED:20191004T230338Z
LAST-MODIFIED:20191004T230338Z
UID:4413-1569856500-1569859200@shirhayam.org
SUMMARY:Tashlich
DESCRIPTION:Tashlich: Monday\, September 30 at 3:15 at Waterfront Park dock in Winslow
URL:https://shirhayam.org/event/tashlich-3/
CATEGORIES:Jewish Holiday
END:VEVENT
BEGIN:VEVENT
DTSTART;TZID=UTC:20190930T123000
DTEND;TZID=UTC:20190930T150000
DTSTAMP:20260425T183629
CREATED:20191004T230458Z
LAST-MODIFIED:20191004T230458Z
UID:4415-1569846600-1569855600@shirhayam.org
SUMMARY:Discussion and Learning with Rabbi Jen
DESCRIPTION:Brown paper bag lunch / Discussion and Learning: Following the morning service at Carol Shakow and Mel Leiman’s house.
URL:https://shirhayam.org/event/discussion-and-learning-with-rabbi-jen/
CATEGORIES:Jewish Holiday
END:VEVENT
BEGIN:VEVENT
DTSTART;TZID=UTC:20190930T090000
DTEND;TZID=UTC:20190930T120000
DTSTAMP:20260425T183629
CREATED:20191004T230233Z
LAST-MODIFIED:20191004T230233Z
UID:4411-1569834000-1569844800@shirhayam.org
SUMMARY:Rosh Hashanah
DESCRIPTION:Rosh Hashanah Day Service: Monday\, September 30 at 9 am at Seabold Hall. Discussion and Tashlich will follow at other locations.
URL:https://shirhayam.org/event/rosh-hashanah-3/
CATEGORIES:Jewish Holiday
END:VEVENT
BEGIN:VEVENT
DTSTART;TZID=UTC:20190929T183000
DTEND;TZID=UTC:20190929T203000
DTSTAMP:20260425T183629
CREATED:20191004T230119Z
LAST-MODIFIED:20191004T230119Z
UID:4409-1569781800-1569789000@shirhayam.org
SUMMARY:Erev Rosh Hashanah
DESCRIPTION:Erev Rosh Hashanah Service: Sunday\, September 29 at 6:30 pm\, followed by the traditional dessert potluck. At Seabold Hall.
URL:https://shirhayam.org/event/erev-rosh-hashanah-4/
CATEGORIES:Jewish Holiday
END:VEVENT
END:VCALENDAR