BEGIN:VCALENDAR
VERSION:2.0
PRODID:-//Shir Hayam - ECPv6.15.20//NONSGML v1.0//EN
CALSCALE:GREGORIAN
METHOD:PUBLISH
X-WR-CALNAME:Shir Hayam
X-ORIGINAL-URL:https://shirhayam.org
X-WR-CALDESC:Events for Shir Hayam
REFRESH-INTERVAL;VALUE=DURATION:PT1H
X-Robots-Tag:noindex
X-PUBLISHED-TTL:PT1H
BEGIN:VTIMEZONE
TZID:UTC
BEGIN:STANDARD
TZOFFSETFROM:+0000
TZOFFSETTO:+0000
TZNAME:UTC
DTSTART:20180101T000000
END:STANDARD
END:VTIMEZONE
BEGIN:VEVENT
DTSTART;TZID=UTC:20210111T173000
DTEND;TZID=UTC:20210111T173000
DTSTAMP:20260425T200620
CREATED:20201230T094942Z
LAST-MODIFIED:20201230T095318Z
UID:5083-1610386200-1610386200@shirhayam.org
SUMMARY:Kugelettes
DESCRIPTION:Every other Monday in the Shir Hayam Zoom Room – at 5:30 pm to accommodate our East Coast folks.
URL:https://shirhayam.org/event/kugelettes-12/
LOCATION:Shir Hayam Zoom Room
CATEGORIES:Fun
END:VEVENT
BEGIN:VEVENT
DTSTART;TZID=UTC:20210110T100000
DTEND;TZID=UTC:20210110T120000
DTSTAMP:20260425T200620
CREATED:20201230T100134Z
LAST-MODIFIED:20210101T082525Z
UID:5095-1610272800-1610280000@shirhayam.org
SUMMARY:Journey to Jewish Rome
DESCRIPTION:Live from Italy in the Shir Hayam Zoom Room on Sunday January 10 2021  10 am – 12 noon \n\n\n\nMicaela’s Jewish family in Rome goes back 2000 years. A sought after walking tour guide recommended by Rick Steves\, she will share her extensive knowledge\, interesting stories\, and beautiful photographs in a fun and engaging way during this tour of twenty two centuries of Jewish life in Rome. \nPlease RSVP to jjr10RSVP@gmail.com for an invitation to the Special Event Zoom Room.
URL:https://shirhayam.org/event/journey-to-jewish-rome/
CATEGORIES:Adult Education,Cultural Events,Fun
END:VEVENT
BEGIN:VEVENT
DTSTART;TZID=UTC:20201228T173000
DTEND;TZID=UTC:20201228T173000
DTSTAMP:20260425T200620
CREATED:20201230T094839Z
LAST-MODIFIED:20201230T095245Z
UID:5081-1609176600-1609176600@shirhayam.org
SUMMARY:Kugelettes
DESCRIPTION:Every other Monday in the Shir Hayam Zoom Room – at 5:30 pm to accommodate our East Coast folks.
URL:https://shirhayam.org/event/kugelettes-11/
LOCATION:Shir Hayam Zoom Room
CATEGORIES:Fun
END:VEVENT
BEGIN:VEVENT
DTSTART;TZID=UTC:20201217T173000
DTEND;TZID=UTC:20201217T193000
DTSTAMP:20260425T200620
CREATED:20201202T071627Z
LAST-MODIFIED:20201214T084026Z
UID:5047-1608226200-1608233400@shirhayam.org
SUMMARY:Chanukah Party
DESCRIPTION:We will light menorahs together and play some games. Robin Hruska has a downloaded Chanukkah Bingo game we can play together that has 32 individual boards. Plenty for all. To help things go smoothly\, if you can email her ahead of time\, she can send you a board before the party.
URL:https://shirhayam.org/event/chanukah-party-shabbat-celebration/
LOCATION:Shir Hayam Zoom Room
CATEGORIES:Fun,Jewish Holiday
ORGANIZER;CN="Ruach Committee":MAILTO:ruach@shirhayam.org
END:VEVENT
BEGIN:VEVENT
DTSTART;TZID=UTC:20201214T080000
DTEND;TZID=UTC:20201214T170000
DTSTAMP:20260425T200620
CREATED:20201202T071744Z
LAST-MODIFIED:20201202T071744Z
UID:5049-1607932800-1607965200@shirhayam.org
SUMMARY:Kugelettes
DESCRIPTION:Hang out with the Kugelettes – all welcome
URL:https://shirhayam.org/event/kugelettes-10/
LOCATION:Shir Hayam Zoom Room
CATEGORIES:Fun
END:VEVENT
BEGIN:VEVENT
DTSTART;TZID=UTC:20201130T173000
DTEND;TZID=UTC:20201130T190000
DTSTAMP:20260425T200620
CREATED:20201101T135532Z
LAST-MODIFIED:20201101T135541Z
UID:5022-1606757400-1606762800@shirhayam.org
SUMMARY:Kugelettes
DESCRIPTION:Every other Monday in the Shir Hayam Zoom Room – at 5:30 pm to accommodate our East Coast folks.
URL:https://shirhayam.org/event/kugelettes-9/
LOCATION:Shir Hayam Zoom Room
CATEGORIES:Fun
END:VEVENT
BEGIN:VEVENT
DTSTART;TZID=UTC:20201116T173000
DTEND;TZID=UTC:20201116T190000
DTSTAMP:20260425T200620
CREATED:20201101T135444Z
LAST-MODIFIED:20201101T135444Z
UID:5020-1605547800-1605553200@shirhayam.org
SUMMARY:Kugelettes
DESCRIPTION:Every other Monday in the Shir Hayam Zoom Room – at 5:30 pm to accommodate our East Coast folks.
URL:https://shirhayam.org/event/kugelettes-8/
LOCATION:Shir Hayam Zoom Room
CATEGORIES:Fun
END:VEVENT
BEGIN:VEVENT
DTSTART;TZID=UTC:20201102T173000
DTEND;TZID=UTC:20201102T190000
DTSTAMP:20260425T200620
CREATED:20201101T135303Z
LAST-MODIFIED:20201101T135343Z
UID:5017-1604338200-1604343600@shirhayam.org
SUMMARY:Kugelettes
DESCRIPTION:Every other Monday in the Shir Hayam Zoom Room – at 5:30 pm to accommodate our East Coast folks.
URL:https://shirhayam.org/event/kugelettes-7/
LOCATION:Shir Hayam Zoom Room
CATEGORIES:Fun
END:VEVENT
BEGIN:VEVENT
DTSTART;TZID=UTC:20201011T140000
DTEND;TZID=UTC:20201011T150000
DTSTAMP:20260425T200620
CREATED:20200820T070231Z
LAST-MODIFIED:20201010T084526Z
UID:4897-1602424800-1602428400@shirhayam.org
SUMMARY:Sukkot
DESCRIPTION:Come Celebrate Sukkot on Sunday\, October 11th at 2 pm in the Shir Hayam Zoom Room\nPlease bring to zoom: \n\nA bowl with harvest fruits and vegetables\nThree branches\, tied together at the base\, and a lemon\nA pen and/or pencil
URL:https://shirhayam.org/event/sukkot-simchat-torah/
LOCATION:Shir Hayam Zoom Room
CATEGORIES:Fun,Jewish Holiday
ORGANIZER;CN="Ruach Committee":MAILTO:ruach@shirhayam.org
END:VEVENT
BEGIN:VEVENT
DTSTART;TZID=UTC:20200928T180000
DTEND;TZID=UTC:20200928T193000
DTSTAMP:20260425T200620
CREATED:20200820T065937Z
LAST-MODIFIED:20200820T065937Z
UID:4895-1601316000-1601321400@shirhayam.org
SUMMARY:Neilah Service
DESCRIPTION:Bring your dinner to the Shir Hayam Zoom Room and we will break the fast together after the service. \n 
URL:https://shirhayam.org/event/neilah-service/
LOCATION:Shir Hayam Zoom Room
CATEGORIES:Fun,Jewish Holiday
ORGANIZER;CN="Ruach Committee":MAILTO:ruach@shirhayam.org
END:VEVENT
BEGIN:VEVENT
DTSTART;TZID=UTC:20200824T190000
DTEND;TZID=UTC:20200824T203000
DTSTAMP:20260425T200620
CREATED:20200804T051200Z
LAST-MODIFIED:20200804T051200Z
UID:4871-1598295600-1598301000@shirhayam.org
SUMMARY:Kugelettes
DESCRIPTION:Singing & more.
URL:https://shirhayam.org/event/kugelettes-6/
LOCATION:Shir Hayam Zoom Room
CATEGORIES:Fun
END:VEVENT
BEGIN:VEVENT
DTSTART;TZID=UTC:20200819T190000
DTEND;TZID=UTC:20200819T203000
DTSTAMP:20260425T200620
CREATED:20200804T050811Z
LAST-MODIFIED:20200804T050811Z
UID:4865-1597863600-1597869000@shirhayam.org
SUMMARY:Vos Tut Zich?
DESCRIPTION:Come say hi and shmooze with your Chavarim
URL:https://shirhayam.org/event/vos-tut-zich-12/
LOCATION:Shir Hayam Zoom Room
CATEGORIES:Fun
END:VEVENT
BEGIN:VEVENT
DTSTART;TZID=UTC:20200810T190000
DTEND;TZID=UTC:20200810T203000
DTSTAMP:20260425T200620
CREATED:20200804T051057Z
LAST-MODIFIED:20200804T051057Z
UID:4869-1597086000-1597091400@shirhayam.org
SUMMARY:Kugelettes
DESCRIPTION:Come shmooze & sing.
URL:https://shirhayam.org/event/kugelettes-5/
LOCATION:Shir Hayam Zoom Room
CATEGORIES:Fun
END:VEVENT
BEGIN:VEVENT
DTSTART;TZID=UTC:20200805T190000
DTEND;TZID=UTC:20200805T200000
DTSTAMP:20260425T200620
CREATED:20200804T050702Z
LAST-MODIFIED:20200804T050702Z
UID:4863-1596654000-1596657600@shirhayam.org
SUMMARY:Vos Tut Zich?
DESCRIPTION:Come say hi and shmooze with your Chavarim
URL:https://shirhayam.org/event/vos-tut-zich-11/
LOCATION:Shir Hayam Zoom Room
CATEGORIES:Fun
END:VEVENT
BEGIN:VEVENT
DTSTART;TZID=UTC:20200722T190000
DTEND;TZID=UTC:20200722T200000
DTSTAMP:20260425T200620
CREATED:20200701T064646Z
LAST-MODIFIED:20200701T064919Z
UID:4808-1595444400-1595448000@shirhayam.org
SUMMARY:Vos Tut Zich?
DESCRIPTION:Every other Wednesday night in the Zoom Room at 7:00 pm hosted by Jon Garfunkle.
URL:https://shirhayam.org/event/vos-tut-zich-9/
LOCATION:Shir Hayam Zoom Room
CATEGORIES:Fun
END:VEVENT
BEGIN:VEVENT
DTSTART;TZID=UTC:20200708T190000
DTEND;TZID=UTC:20200708T200000
DTSTAMP:20260425T200620
CREATED:20200701T064403Z
LAST-MODIFIED:20200701T064845Z
UID:4805-1594234800-1594238400@shirhayam.org
SUMMARY:Vos Tut Zich?
DESCRIPTION:Every other Wednesday night in the Zoom Room at 7:00 pm hosted by Jon Garfunkle.
URL:https://shirhayam.org/event/vos-tut-zich-8/
LOCATION:Shir Hayam Zoom Room
CATEGORIES:Fun
END:VEVENT
BEGIN:VEVENT
DTSTART;TZID=UTC:20200601T190000
DTEND;TZID=UTC:20200601T200000
DTSTAMP:20260425T200620
CREATED:20200516T065610Z
LAST-MODIFIED:20200516T065610Z
UID:4754-1591038000-1591041600@shirhayam.org
SUMMARY:Kugelettes
DESCRIPTION:Come and sing along.
URL:https://shirhayam.org/event/kugelettes-4/
CATEGORIES:Fun
END:VEVENT
BEGIN:VEVENT
DTSTART;TZID=UTC:20200527T190000
DTEND;TZID=UTC:20200527T200000
DTSTAMP:20260425T200620
CREATED:20200516T065424Z
LAST-MODIFIED:20200516T065424Z
UID:4750-1590606000-1590609600@shirhayam.org
SUMMARY:Vos Tut Zich?
DESCRIPTION:Every other Wednesday night in the Zoom Room at 7:00 pm
URL:https://shirhayam.org/event/vos-tut-zich-7/
LOCATION:Shir Hayam Zoom Room
CATEGORIES:Community Meeting,Fun
END:VEVENT
BEGIN:VEVENT
DTSTART;TZID=UTC:20200518T190000
DTEND;TZID=UTC:20200518T200000
DTSTAMP:20260425T200620
CREATED:20200516T065530Z
LAST-MODIFIED:20200516T065530Z
UID:4752-1589828400-1589832000@shirhayam.org
SUMMARY:Kugelettes
DESCRIPTION:Come and sing along.
URL:https://shirhayam.org/event/kugelettes-3/
CATEGORIES:Fun
END:VEVENT
BEGIN:VEVENT
DTSTART;TZID=UTC:20200513T190000
DTEND;TZID=UTC:20200513T200000
DTSTAMP:20260425T200620
CREATED:20200516T065314Z
LAST-MODIFIED:20200516T065329Z
UID:4748-1589396400-1589400000@shirhayam.org
SUMMARY:Vos Tut Zich?
DESCRIPTION:Every other Wednesday night in the Zoom Room at 7:00 pm
URL:https://shirhayam.org/event/vos-tut-zich-6/
LOCATION:Shir Hayam Zoom Room
CATEGORIES:Community Meeting,Fun
END:VEVENT
BEGIN:VEVENT
DTSTART;TZID=UTC:20200429T080000
DTEND;TZID=UTC:20200429T170000
DTSTAMP:20260425T200620
CREATED:20200331T075652Z
LAST-MODIFIED:20200331T075652Z
UID:4706-1588147200-1588179600@shirhayam.org
SUMMARY:Vos Tut Zich?
DESCRIPTION:Every Wednesday night in the Zoom Room at 7:00 pm
URL:https://shirhayam.org/event/vos-tut-zich-5/
CATEGORIES:Community Meeting,Fun
END:VEVENT
BEGIN:VEVENT
DTSTART;TZID=UTC:20200422T190000
DTEND;TZID=UTC:20200422T210000
DTSTAMP:20260425T200620
CREATED:20200331T075456Z
LAST-MODIFIED:20200331T075456Z
UID:4704-1587582000-1587589200@shirhayam.org
SUMMARY:Vos Tut Zich?
DESCRIPTION:Every Wednesday night in the Zoom Room at 7:00 pm
URL:https://shirhayam.org/event/vos-tut-zich-4/
CATEGORIES:Community Meeting,Fun
END:VEVENT
BEGIN:VEVENT
DTSTART;TZID=UTC:20200420T190000
DTEND;TZID=UTC:20200420T210000
DTSTAMP:20260425T200620
CREATED:20200331T075809Z
LAST-MODIFIED:20200331T075809Z
UID:4708-1587409200-1587416400@shirhayam.org
SUMMARY:Kugelettes
DESCRIPTION:Every other Monday night in the Zoom Room
URL:https://shirhayam.org/event/kugelettes-2/
CATEGORIES:Fun
END:VEVENT
BEGIN:VEVENT
DTSTART;TZID=UTC:20200415T190000
DTEND;TZID=UTC:20200415T210000
DTSTAMP:20260425T200620
CREATED:20200331T074606Z
LAST-MODIFIED:20200331T074606Z
UID:4696-1586977200-1586984400@shirhayam.org
SUMMARY:Vos Tut Zich?
DESCRIPTION:Every Wednesday night in the Zoom Room at 7:00 pm
URL:https://shirhayam.org/event/vos-tut-zich-3/
CATEGORIES:Community Meeting,Fun
END:VEVENT
BEGIN:VEVENT
DTSTART;TZID=UTC:20200408T190000
DTEND;TZID=UTC:20200408T210000
DTSTAMP:20260425T200620
CREATED:20200331T074511Z
LAST-MODIFIED:20200331T074511Z
UID:4694-1586372400-1586379600@shirhayam.org
SUMMARY:Vos Tut Zich?
DESCRIPTION:Every Wednesday night in the Zoom Room at 7:00 pm
URL:https://shirhayam.org/event/vos-tut-zich-2/
CATEGORIES:Community Meeting,Fun
END:VEVENT
BEGIN:VEVENT
DTSTART;TZID=UTC:20200406T190000
DTEND;TZID=UTC:20200406T210000
DTSTAMP:20260425T200620
CREATED:20200331T074816Z
LAST-MODIFIED:20200331T074816Z
UID:4698-1586199600-1586206800@shirhayam.org
SUMMARY:Kugelettes
DESCRIPTION:Every other Monday in the Zoom Room at 7:00 pm \n 
URL:https://shirhayam.org/event/kugelettes/
CATEGORIES:Community Meeting,Fun
END:VEVENT
BEGIN:VEVENT
DTSTART;TZID=UTC:20200401T190000
DTEND;TZID=UTC:20200401T210000
DTSTAMP:20260425T200620
CREATED:20200331T074401Z
LAST-MODIFIED:20200331T074401Z
UID:4691-1585767600-1585774800@shirhayam.org
SUMMARY:Vos Tut Zich?
DESCRIPTION:Every Wednesday night in the Zoom Room at 7:00 pm
URL:https://shirhayam.org/event/vos-tut-zich/
CATEGORIES:Community Meeting,Fun
END:VEVENT
BEGIN:VEVENT
DTSTART;TZID=UTC:20200307T173000
DTEND;TZID=UTC:20200307T193000
DTSTAMP:20260425T200620
CREATED:20200301T140111Z
LAST-MODIFIED:20200306T121832Z
UID:4648-1583602200-1583609400@shirhayam.org
SUMMARY:Purim Party - Cancelled
DESCRIPTION:We have cancelled our Purim Celebration.
URL:https://shirhayam.org/event/purim-party-2/
CATEGORIES:Cultural Events,Fun,Jewish Holiday
END:VEVENT
BEGIN:VEVENT
DTSTART;TZID=UTC:20200209T133000
DTEND;TZID=UTC:20200209T153000
DTSTAMP:20260425T200620
CREATED:20200101T044323Z
LAST-MODIFIED:20200128T053936Z
UID:4579-1581255000-1581262200@shirhayam.org
SUMMARY:Tu B'Shevat Seder
DESCRIPTION:Come celebrate the New Year of the Trees with a Tu B’Shevat Seder and tree planting. Trees and shrubs will be available for you to take home and plant in your yard.\n\nFebruary 9\, 1:30 pm at the Rappaport’s\n\nPlease click on the sign up genius link if you want to bring something for the Seder.\n\nhttps://www.signupgenius.com/go/10C094BABA92DA31-tubshevat \n\nQuestions? More Information? Email Carol Rappaport
URL:https://shirhayam.org/event/tu-bshevat-2/
CATEGORIES:Events,Fun,Jewish Holiday
END:VEVENT
BEGIN:VEVENT
DTSTART;TZID=UTC:20191222T160000
DTEND;TZID=UTC:20191222T200000
DTSTAMP:20260425T200620
CREATED:20191104T004643Z
LAST-MODIFIED:20191203T060004Z
UID:4505-1577030400-1577044800@shirhayam.org
SUMMARY:Chanukah Party
DESCRIPTION:Sunday 12/22/2019\,  4PM at the Rappaports’ home.\n\n \n\n\n\n \n\nPlease join us to celebrate the first night of Chanukah with candle lighting\, singing\, dreidels\, latkes\, discussion and a potluck supper.\n\n \n\nFor more information contact Carol Rappaport or call 206-567-9414.
URL:https://shirhayam.org/event/chanukah-party-3/
CATEGORIES:Cultural Events,Fun,Jewish Holiday
END:VEVENT
END:VCALENDAR