BEGIN:VCALENDAR
VERSION:2.0
PRODID:-//Shir Hayam - ECPv6.15.20//NONSGML v1.0//EN
CALSCALE:GREGORIAN
METHOD:PUBLISH
X-WR-CALNAME:Shir Hayam
X-ORIGINAL-URL:https://shirhayam.org
X-WR-CALDESC:Events for Shir Hayam
REFRESH-INTERVAL;VALUE=DURATION:PT1H
X-Robots-Tag:noindex
X-PUBLISHED-TTL:PT1H
BEGIN:VTIMEZONE
TZID:UTC
BEGIN:STANDARD
TZOFFSETFROM:+0000
TZOFFSETTO:+0000
TZNAME:UTC
DTSTART:20180101T000000
END:STANDARD
END:VTIMEZONE
BEGIN:VEVENT
DTSTART;TZID=UTC:20191116T173000
DTEND;TZID=UTC:20191116T210000
DTSTAMP:20260425T200941
CREATED:20191102T091355Z
LAST-MODIFIED:20191102T091410Z
UID:4499-1573925400-1573938000@shirhayam.org
SUMMARY:Havdalah & Movie Night "Orchestra of Exiles"
DESCRIPTION:Please join us for Havdalah and Movie night at the home of Carol Shakow and Mel Leiman on Saturday\, November 16th at 5:30. There will be a Havdalah followed by a potluck and movie. The movie is slated to be Orchestra of Exiles\,  the suspenseful chronicle of how one man helped save Europe’s premier Jewish musicians from obliteration by the Nazis during World II. Call 206-567-9414 for event details.
URL:https://shirhayam.org/event/havdalah-movie-night-orchestra-of-exiles/
CATEGORIES:Cultural Events
END:VEVENT
BEGIN:VEVENT
DTSTART;TZID=UTC:20190621T180000
DTEND;TZID=UTC:20190621T200000
DTSTAMP:20260425T200941
CREATED:20190607T010312Z
LAST-MODIFIED:20190607T010312Z
UID:4287-1561140000-1561147200@shirhayam.org
SUMMARY:Solstice Shabbat & Potluck on the Farm
DESCRIPTION:Friday\, June 21\, 2019\, 6pm\, Solstice Shabbat & Potluck on the Farm \nHistoric Suyematsu & Bentryn Family Farms\, 8989 NE Day Rd\, Bainbridge Island\, WA 98110  (Entrance at signs for Bainbridge Vineyards & Educulture). Meet at the Winery of Bainbridge Vineyards (Parking at Winery). \nJoin us for a special Shabbat in the vineyards\, including a locally grown farm walk and wine tasting.  Hosted by Jon Garfunkel.  Weather permitting\, we’ll take an hour before sunset to walk amidst the beauty and take in the rich history of these 40 acres\, while saying our blessings in the vineyards. Returning to the winery\, we will gather for our potluck meal. Bring a dinner or dessert item\, your happy farm shoes\, and a layer for outside.  Jon is providing the wine from Bainbridge Vineyards. \nQuestions and RSVPs to Jon Garfunkel.
URL:https://shirhayam.org/event/solstice-shabbat-potluck-on-the-farm/
CATEGORIES:Cultural Events,Jewish Holiday
END:VEVENT
END:VCALENDAR